BEGIN:VCALENDAR
VERSION:2.0
PRODID:Events Booking
BEGIN:VEVENT
UID:69e9f1002c609
SUMMARY:L'organisation gagnante 
DESCRIPTION:Ne restez pas dans la méconnaissance !
 Défiance\, démissio
 n\, désengagement\, absences\, burnout... Les signes de relations diffici
 les dans l'entreprise se multiplient.  Le travail hybride a accéléré l
 e développement de dysfonctionnements inhérents aux organisations tradit
 ionnelles. 
 Vous dit-on que c’est une question de leadership\, de cul
 ture ? Peut-être même vous dit-on que c’est partout pareil ? Peut-ê
 tre vous assomme-t-on d'injonctions faciles: faîtes confiance\, soyez un 
 leader charismatique\, augmenter votre résilience.
 C'est méconnaître 
 ce qu'est une organisation et son impact sur les comportements.
 Etes-vou
 s résolu de fonctionner dans la moyenne avec une partie de vos collaborat
 eurs passifs\, méfiants\, absents\, en burn-out ?
 L’organisation est 
 la pierre d’angle des solutions.  Participer au séminaire et découvri
 r comment une structure\, revenue sur ses fondamentaux\, vous permettra de
  développer un succès durable.
  
  
  
  
  
  
  
  

   
  
  
  
DTSTART:20220210T093000Z
DTEND:20220210T110000Z
DTSTAMP:20260423T121424Z
ORGANIZER;CN=L'Entreprise Ovale:MAILTO:welcome@entrepriseovale.com
END:VEVENT
END:VCALENDAR